BEGIN:VCALENDAR
VERSION:2.0
PRODID:-//demosphere.net//NONSGML kigkonsult.se iCalcreator 2.22.1//
METHOD:REQUEST
X-WR-TIMEZONE:Europe/Athens
BEGIN:VEVENT
UID:https://mail.kinimatorama.net/event/157073
DTSTAMP:20231103T180000Z
DESCRIPTION:περισσότερες πληροφορίες: https://mail.kinimatorama.net/event/1
 57073 
DTSTART:20231103T180000Z
DTEND:20231103T190000Z
GEO:+39.620611;+19.91523
LOCATION:Κέρκυρα\, \nκατάληψη Αντινομία \nπαλιό ψυχιατρείο
SUMMARY:Προβολή της ταινίας 'Η ιστορία του Πύργου' & bar οικονομικής ενίσχυ
 σης
URL:https://mail.kinimatorama.net/event/157073
END:VEVENT
END:VCALENDAR
