BEGIN:VCALENDAR
VERSION:2.0
PRODID:-//demosphere.net//NONSGML kigkonsult.se iCalcreator 2.22.1//
METHOD:REQUEST
X-WR-TIMEZONE:Europe/Athens
BEGIN:VEVENT
UID:https://mail.kinimatorama.net/event/157479
DTSTAMP:20231108T180000Z
DESCRIPTION:περισσότερες πληροφορίες: https://mail.kinimatorama.net/event/1
 57479 
DTSTART:20231108T180000Z
DTEND:20231108T190000Z
GEO:+39.620611;+19.91523
LOCATION:Κέρκυρα\, \nκατάληψη Αντινομία \nπαλιό ψυχιατρείο
SUMMARY:Προβολή Ντοκιμαντέρ: Οι 4 εποχές του Χρήστου (μέρος Α')
URL:https://mail.kinimatorama.net/event/157479
END:VEVENT
END:VCALENDAR
