BEGIN:VCALENDAR
VERSION:2.0
PRODID:-//demosphere.net//NONSGML kigkonsult.se iCalcreator 2.22.1//
METHOD:REQUEST
X-WR-TIMEZONE:Europe/Athens
BEGIN:VEVENT
UID:https://mail.kinimatorama.net/event/15758
DTSTAMP:20111218T100000Z
DESCRIPTION:περισσότερες πληροφορίες: https://mail.kinimatorama.net/event/1
 5758 
DTSTART:20111218T100000Z
DTEND:20111218T110000Z
GEO:+37.975682;+23.734846
LOCATION:Αθήνα\, \nΠλατεία Συντάγματος (Σύνταγμα)
SUMMARY:Ανταλλακτικό Παζάρι Αλληλεγγύης
URL:https://mail.kinimatorama.net/event/15758
END:VEVENT
END:VCALENDAR
