BEGIN:VCALENDAR
VERSION:2.0
PRODID:-//demosphere.net//NONSGML kigkonsult.se iCalcreator 2.22.1//
METHOD:REQUEST
X-WR-TIMEZONE:Europe/Athens
BEGIN:VEVENT
UID:https://mail.kinimatorama.net/event/158066
DTSTAMP:20231118T150000Z
DESCRIPTION:περισσότερες πληροφορίες: https://mail.kinimatorama.net/event/1
 58066 
DTSTART:20231118T150000Z
DTEND:20231118T160000Z
GEO:+39.620611;+19.91523
LOCATION:Κέρκυρα\, \nκατάληψη Αντινομία \nπαλιό ψυχιατρείο
SUMMARY:Άνοιγμα/γνωριμία με την τρανς-φεμινιστική συλλογικότητα «πικραλίδες
 »
URL:https://mail.kinimatorama.net/event/158066
END:VEVENT
END:VCALENDAR
