BEGIN:VCALENDAR
VERSION:2.0
PRODID:-//demosphere.net//NONSGML kigkonsult.se iCalcreator 2.22.1//
METHOD:REQUEST
X-WR-TIMEZONE:Europe/Athens
BEGIN:VEVENT
UID:https://mail.kinimatorama.net/event/158164
DTSTAMP:20231122T180000Z
DESCRIPTION:περισσότερες πληροφορίες: https://mail.kinimatorama.net/event/1
 58164 
DTSTART:20231122T180000Z
DTEND:20231122T190000Z
GEO:+39.620611;+19.91523
LOCATION:Κέρκυρα\, \nκατάληψη Αντινομία \nπαλιό ψυχιατρείο
SUMMARY:Προβολή ντοκιμαντέρ για τη ζωή της ακτιβίστριας δικηγόρου Κατερίνας
  Ιατροπούλου
URL:https://mail.kinimatorama.net/event/158164
END:VEVENT
END:VCALENDAR
