BEGIN:VCALENDAR
VERSION:2.0
PRODID:-//demosphere.net//NONSGML kigkonsult.se iCalcreator 2.22.1//
METHOD:REQUEST
X-WR-TIMEZONE:Europe/Athens
BEGIN:VEVENT
UID:https://mail.kinimatorama.net/event/158369
DTSTAMP:20231124T173000Z
DESCRIPTION:περισσότερες πληροφορίες: https://mail.kinimatorama.net/event/1
 58369 
DTSTART:20231124T173000Z
DTEND:20231124T183000Z
GEO:+39.620611;+19.91523
LOCATION:Κέρκυρα\, \nκατάληψη Αντινομία \nπαλιό ψυχιατρείο
SUMMARY:Παρουσίαση της ποιητικής συλλογής «Post Mortem» & open poetry mic
URL:https://mail.kinimatorama.net/event/158369
END:VEVENT
END:VCALENDAR
