BEGIN:VCALENDAR
VERSION:2.0
PRODID:-//demosphere.net//NONSGML kigkonsult.se iCalcreator 2.22.1//
METHOD:REQUEST
X-WR-TIMEZONE:Europe/Athens
BEGIN:VEVENT
UID:https://mail.kinimatorama.net/event/158620
DTSTAMP:20231201T180000Z
DESCRIPTION:περισσότερες πληροφορίες: https://mail.kinimatorama.net/event/1
 58620 
DTSTART:20231201T180000Z
DTEND:20231201T190000Z
GEO:+39.620611;+19.91523
LOCATION:Κέρκυρα\, \nκατάληψη Αντινομία \nπαλιό ψυχιατρείο
SUMMARY:Προβολή Ντοκιμαντέρ + DIY after Bar: 'Η οργή αντικαθιστά τα δάκρυα'
URL:https://mail.kinimatorama.net/event/158620
END:VEVENT
END:VCALENDAR
