BEGIN:VCALENDAR
VERSION:2.0
PRODID:-//demosphere.net//NONSGML kigkonsult.se iCalcreator 2.22.1//
METHOD:REQUEST
X-WR-TIMEZONE:Europe/Athens
BEGIN:VEVENT
UID:https://mail.kinimatorama.net/event/159460
DTSTAMP:20231223T100000Z
DESCRIPTION:περισσότερες πληροφορίες: https://mail.kinimatorama.net/event/1
 59460 
DTSTART:20231223T100000Z
DTEND:20231223T110000Z
GEO:+37.975682;+23.734846
LOCATION:Αθήνα\, \nΠλατεία Συντάγματος (Σύνταγμα)
SUMMARY:Λευτεριά στην Παλαιστίνη. Συγκέντρωση Αλληλεγγύης
URL:https://mail.kinimatorama.net/event/159460
END:VEVENT
END:VCALENDAR
