BEGIN:VCALENDAR
VERSION:2.0
PRODID:-//demosphere.net//NONSGML kigkonsult.se iCalcreator 2.22.1//
METHOD:REQUEST
X-WR-TIMEZONE:Europe/Athens
BEGIN:VEVENT
UID:https://mail.kinimatorama.net/event/159678
DTSTAMP:20231231T213000Z
DESCRIPTION:περισσότερες πληροφορίες: https://mail.kinimatorama.net/event/1
 59678 
DTSTART:20231231T213000Z
DTEND:20231231T223000Z
GEO:+37.975682;+23.734846
LOCATION:Αθήνα\, \nΠλατεία Συντάγματος (Σύνταγμα)
SUMMARY:No to celebrations\, while Gaza is facing genocide
URL:https://mail.kinimatorama.net/event/159678
END:VEVENT
END:VCALENDAR
