BEGIN:VCALENDAR
VERSION:2.0
PRODID:-//demosphere.net//NONSGML kigkonsult.se iCalcreator 2.22.1//
METHOD:REQUEST
X-WR-TIMEZONE:Europe/Athens
BEGIN:VEVENT
UID:https://mail.kinimatorama.net/event/160009
DTSTAMP:20240112T180000Z
DESCRIPTION:περισσότερες πληροφορίες: https://mail.kinimatorama.net/event/1
 60009 
DTSTART:20240112T180000Z
DTEND:20240112T190000Z
GEO:+39.620611;+19.91523
LOCATION:Κέρκυρα\, \nκατάληψη Αντινομία \nπαλιό ψυχιατρείο
SUMMARY:Εκδήλωση από την κοινωνική κουζίνα El Chef
URL:https://mail.kinimatorama.net/event/160009
END:VEVENT
END:VCALENDAR
