BEGIN:VCALENDAR
VERSION:2.0
PRODID:-//demosphere.net//NONSGML kigkonsult.se iCalcreator 2.22.1//
METHOD:REQUEST
X-WR-TIMEZONE:Europe/Athens
BEGIN:VEVENT
UID:https://mail.kinimatorama.net/event/160010
DTSTAMP:20240113T090000Z
DESCRIPTION:περισσότερες πληροφορίες: https://mail.kinimatorama.net/event/1
 60010 
DTSTART:20240113T090000Z
DTEND:20240113T100000Z
GEO:+39.620611;+19.91523
LOCATION:Κέρκυρα\, \nκατάληψη Αντινομία \nπαλιό ψυχιατρείο
SUMMARY:Εβδομαδιαίο μαγείρεμα της κουζίνας\, συλλογικό φαγοπότι 'ρεφενε' + 
 ρεμπέτικο γλέντι
URL:https://mail.kinimatorama.net/event/160010
END:VEVENT
END:VCALENDAR
