BEGIN:VCALENDAR
VERSION:2.0
PRODID:-//demosphere.net//NONSGML kigkonsult.se iCalcreator 2.22.1//
METHOD:REQUEST
X-WR-TIMEZONE:Europe/Athens
BEGIN:VEVENT
UID:https://mail.kinimatorama.net/event/160150
DTSTAMP:20240121T110000Z
DESCRIPTION:περισσότερες πληροφορίες: https://mail.kinimatorama.net/event/1
 60150 
DTSTART:20240121T110000Z
DTEND:20240121T120000Z
GEO:+37.975682;+23.734846
LOCATION:Αθήνα\, \nΠλατεία Συντάγματος (Σύνταγμα)
SUMMARY:[Αθήνα] Συγκέντρωση ενάντια στο νέο ποινικό κώδικα
URL:https://mail.kinimatorama.net/event/160150
END:VEVENT
END:VCALENDAR
