BEGIN:VCALENDAR
VERSION:2.0
PRODID:-//demosphere.net//NONSGML kigkonsult.se iCalcreator 2.22.1//
METHOD:REQUEST
X-WR-TIMEZONE:Europe/Athens
BEGIN:VEVENT
UID:https://mail.kinimatorama.net/event/161159
DTSTAMP:20240202T113000Z
DESCRIPTION:περισσότερες πληροφορίες: https://mail.kinimatorama.net/event/1
 61159 
DTSTART:20240202T113000Z
DTEND:20240202T123000Z
GEO:+37.975682;+23.734846
LOCATION:Αθήνα\, \nΠλατεία Συντάγματος (Σύνταγμα)
SUMMARY:Μαζική συγκέντρωση σωματείων ενάντια στις συνδικαλιστικές διώξεις
URL:https://mail.kinimatorama.net/event/161159
END:VEVENT
END:VCALENDAR
