BEGIN:VCALENDAR
VERSION:2.0
PRODID:-//demosphere.net//NONSGML kigkonsult.se iCalcreator 2.22.1//
METHOD:REQUEST
X-WR-TIMEZONE:Europe/Athens
BEGIN:VEVENT
UID:https://mail.kinimatorama.net/event/161231
DTSTAMP:20240206T160000Z
DESCRIPTION:περισσότερες πληροφορίες: https://mail.kinimatorama.net/event/1
 61231 
DTSTART:20240206T160000Z
DTEND:20240206T170000Z
GEO:+37.975682;+23.734846
LOCATION:Αθήνα\, \nΠλατεία Συντάγματος (Σύνταγμα)
SUMMARY:Συγκέντρωση για τα θύματα των συνόρων - CommemorAction
URL:https://mail.kinimatorama.net/event/161231
END:VEVENT
END:VCALENDAR
