BEGIN:VCALENDAR
VERSION:2.0
PRODID:-//demosphere.net//NONSGML kigkonsult.se iCalcreator 2.22.1//
METHOD:REQUEST
X-WR-TIMEZONE:Europe/Athens
BEGIN:VEVENT
UID:https://mail.kinimatorama.net/event/162313
DTSTAMP:20240310T100000Z
DESCRIPTION:περισσότερες πληροφορίες: https://mail.kinimatorama.net/event/1
 62313 
DTSTART:20240310T100000Z
DTEND:20240310T110000Z
GEO:+40.653653;+22.939807
LOCATION:Θεσσαλονίκη\, \nΣτέκι ΑΠΑΝ - Λαϊκής Βιβλιοθήκης \nΜουδανιών 18 \nΝ
 εάπολη
SUMMARY:Ομάδα λογοτεχνικής ανάγνωσης: Μια φυσιολογική ζωή του Βασίλη Παλαιο
 κώστα
URL:https://mail.kinimatorama.net/event/162313
END:VEVENT
END:VCALENDAR
