BEGIN:VCALENDAR
VERSION:2.0
PRODID:-//demosphere.net//NONSGML kigkonsult.se iCalcreator 2.22.1//
METHOD:REQUEST
X-WR-TIMEZONE:Europe/Athens
BEGIN:VEVENT
UID:https://mail.kinimatorama.net/event/162383
DTSTAMP:20240222T110000Z
DESCRIPTION:περισσότερες πληροφορίες: https://mail.kinimatorama.net/event/1
 62383 
DTSTART:20240222T110000Z
DTEND:20240222T120000Z
GEO:+37.975682;+23.734846
LOCATION:Αθήνα\, \nΠλατεία Συντάγματος (Σύνταγμα)
SUMMARY:Παρουσία στην πανεκπαιδευτική κινητοποίηση για τον Νέο Ποινικό Κώδι
 κα
URL:https://mail.kinimatorama.net/event/162383
END:VEVENT
END:VCALENDAR
