BEGIN:VCALENDAR
VERSION:2.0
PRODID:-//demosphere.net//NONSGML kigkonsult.se iCalcreator 2.22.1//
METHOD:REQUEST
X-WR-TIMEZONE:Europe/Athens
BEGIN:VEVENT
UID:https://mail.kinimatorama.net/event/163431
DTSTAMP:20240308T180000Z
DESCRIPTION:περισσότερες πληροφορίες: https://mail.kinimatorama.net/event/1
 63431 
DTSTART:20240308T180000Z
DTEND:20240308T190000Z
GEO:+39.620611;+19.91523
LOCATION:Κέρκυρα\, \nκατάληψη Αντινομία \nπαλιό ψυχιατρείο
SUMMARY:Παρουσίαση της ατζέντας του 2024 από το Ταμείο Αλληλεγγύης
URL:https://mail.kinimatorama.net/event/163431
END:VEVENT
END:VCALENDAR
