BEGIN:VCALENDAR
VERSION:2.0
PRODID:-//demosphere.net//NONSGML kigkonsult.se iCalcreator 2.22.1//
METHOD:REQUEST
X-WR-TIMEZONE:Europe/Athens
BEGIN:VEVENT
UID:https://mail.kinimatorama.net/event/163499
DTSTAMP:20240308T140000Z
DESCRIPTION:περισσότερες πληροφορίες: https://mail.kinimatorama.net/event/1
 63499 
DTSTART:20240308T140000Z
DTEND:20240308T150000Z
GEO:+37.975682;+23.734846
LOCATION:Αθήνα\, \nΠλατεία Συντάγματος (Σύνταγμα)
SUMMARY:Συγκέντρωση κατά του ν/σ για τα ιδιωτικά ΑΕΙ
URL:https://mail.kinimatorama.net/event/163499
END:VEVENT
END:VCALENDAR
