BEGIN:VCALENDAR
VERSION:2.0
PRODID:-//demosphere.net//NONSGML kigkonsult.se iCalcreator 2.22.1//
METHOD:REQUEST
X-WR-TIMEZONE:Europe/Athens
BEGIN:VEVENT
UID:https://mail.kinimatorama.net/event/163924
DTSTAMP:20240317T190000Z
DESCRIPTION:περισσότερες πληροφορίες: https://mail.kinimatorama.net/event/1
 63924 
DTSTART:20240317T190000Z
DTEND:20240317T200000Z
GEO:+39.620611;+19.91523
LOCATION:Κέρκυρα\, \nκατάληψη Αντινομία \nπαλιό ψυχιατρείο
SUMMARY:DIY live + after bar οικονομικής ενίσχυσης και Open Jam
URL:https://mail.kinimatorama.net/event/163924
END:VEVENT
END:VCALENDAR
