BEGIN:VCALENDAR
VERSION:2.0
PRODID:-//demosphere.net//NONSGML kigkonsult.se iCalcreator 2.22.1//
METHOD:REQUEST
X-WR-TIMEZONE:Europe/Athens
BEGIN:VEVENT
UID:https://mail.kinimatorama.net/event/164523
DTSTAMP:20240401T163000Z
DESCRIPTION:περισσότερες πληροφορίες: https://mail.kinimatorama.net/event/1
 64523 
DTSTART:20240401T163000Z
DTEND:20240401T173000Z
GEO:+39.620611;+19.91523
LOCATION:Κέρκυρα\, \nκατάληψη Αντινομία \nπαλιό ψυχιατρείο
SUMMARY:Συνέλευση της κοινωνικής κουζίνας 'Το καπνισμένο τσουκάλι'
URL:https://mail.kinimatorama.net/event/164523
END:VEVENT
END:VCALENDAR
