BEGIN:VCALENDAR
VERSION:2.0
PRODID:-//demosphere.net//NONSGML kigkonsult.se iCalcreator 2.22.1//
METHOD:REQUEST
X-WR-TIMEZONE:Europe/Athens
BEGIN:VEVENT
UID:https://mail.kinimatorama.net/event/164876
DTSTAMP:20240412T170000Z
DESCRIPTION:περισσότερες πληροφορίες: https://mail.kinimatorama.net/event/1
 64876 
DTSTART:20240412T170000Z
DTEND:20240412T180000Z
GEO:+40.653653;+22.939807
LOCATION:Θεσσαλονίκη\, \nΣτέκι ΑΠΑΝ - Λαϊκής Βιβλιοθήκης \nΜουδανιών 18 \nΝ
 εάπολη
SUMMARY:Ο αγώνας για την υπεράσπιση της παραλίας Ερεσού Λέσβου από το χτίσι
 μο
URL:https://mail.kinimatorama.net/event/164876
END:VEVENT
END:VCALENDAR
