BEGIN:VCALENDAR
VERSION:2.0
PRODID:-//demosphere.net//NONSGML kigkonsult.se iCalcreator 2.22.1//
METHOD:REQUEST
X-WR-TIMEZONE:Europe/Athens
BEGIN:VEVENT
UID:https://mail.kinimatorama.net/event/166455
DTSTAMP:20240519T140000Z
DESCRIPTION:περισσότερες πληροφορίες: https://mail.kinimatorama.net/event/1
 66455 
DTSTART:20240519T140000Z
DTEND:20240519T150000Z
GEO:+37.975682;+23.734846
LOCATION:Αθήνα\, \nΠλατεία Συντάγματος (Σύνταγμα)
SUMMARY:Μικροφωνική συγκέντρωση για τη δίκη των 9 της Πύλου
URL:https://mail.kinimatorama.net/event/166455
END:VEVENT
END:VCALENDAR
