BEGIN:VCALENDAR
VERSION:2.0
PRODID:-//demosphere.net//NONSGML kigkonsult.se iCalcreator 2.22.1//
METHOD:REQUEST
X-WR-TIMEZONE:Europe/Athens
BEGIN:VEVENT
UID:https://mail.kinimatorama.net/event/167266
DTSTAMP:20240616T150000Z
DESCRIPTION:περισσότερες πληροφορίες: https://mail.kinimatorama.net/event/1
 67266 
DTSTART:20240616T150000Z
DTEND:20240616T160000Z
GEO:+37.975682;+23.734846
LOCATION:Αθήνα\, \nΠλατεία Συντάγματος (Σύνταγμα)
SUMMARY:Δραση/διαμαρτυρια - τραγουδάμε για την παλαιστίνη - οιστρογόνες
URL:https://mail.kinimatorama.net/event/167266
END:VEVENT
END:VCALENDAR
