BEGIN:VCALENDAR
VERSION:2.0
PRODID:-//demosphere.net//NONSGML kigkonsult.se iCalcreator 2.22.1//
METHOD:REQUEST
X-WR-TIMEZONE:Europe/Athens
BEGIN:VEVENT
UID:https://mail.kinimatorama.net/event/168368
DTSTAMP:20240729T080000Z
DESCRIPTION:περισσότερες πληροφορίες: https://mail.kinimatorama.net/event/1
 68368 
DTSTART:20240729T080000Z
DTEND:20240729T090000Z
GEO:+37.975682;+23.734846
LOCATION:Αθήνα\, \nΠλατεία Συντάγματος (Σύνταγμα)
SUMMARY:Συγκέντρωση διαμαρτυρίας στη Βουλή κατά του νομοσχεδίου για την ψυχ
 ική υγεία
URL:https://mail.kinimatorama.net/event/168368
END:VEVENT
END:VCALENDAR
