BEGIN:VCALENDAR
VERSION:2.0
PRODID:-//demosphere.net//NONSGML kigkonsult.se iCalcreator 2.22.1//
METHOD:REQUEST
X-WR-TIMEZONE:Europe/Athens
BEGIN:VEVENT
UID:https://mail.kinimatorama.net/event/168870
DTSTAMP:20240913T160000Z
DESCRIPTION:περισσότερες πληροφορίες: https://mail.kinimatorama.net/event/1
 68870 
DTSTART:20240913T160000Z
DTEND:20240913T170000Z
GEO:+37.975682;+23.734846
LOCATION:Αθήνα\, \nΠλατεία Συντάγματος (Σύνταγμα)
SUMMARY:Ελευθερία στον Öcalan\, πολιτική λύση στο κουρδικό ζήτημα
URL:https://mail.kinimatorama.net/event/168870
END:VEVENT
END:VCALENDAR
