BEGIN:VCALENDAR
VERSION:2.0
PRODID:-//demosphere.net//NONSGML kigkonsult.se iCalcreator 2.22.1//
METHOD:REQUEST
X-WR-TIMEZONE:Europe/Athens
BEGIN:VEVENT
UID:https://mail.kinimatorama.net/event/169746
DTSTAMP:20241012T170000Z
DESCRIPTION:περισσότερες πληροφορίες: https://mail.kinimatorama.net/event/1
 69746 
DTSTART:20241012T170000Z
DTEND:20241012T180000Z
GEO:+40.653653;+22.939807
LOCATION:Θεσσαλονίκη\, \nΣτέκι ΑΠΑΝ - Λαϊκής Βιβλιοθήκης \nΜουδανιών 18 \nΝ
 εάπολη
SUMMARY:Προβολή της ταινίας γειτονιάς 'Που 'σαι ρε μαλάκα Μάκη' και Open Ja
 m
URL:https://mail.kinimatorama.net/event/169746
END:VEVENT
END:VCALENDAR
