BEGIN:VCALENDAR
VERSION:2.0
PRODID:-//demosphere.net//NONSGML kigkonsult.se iCalcreator 2.22.1//
METHOD:REQUEST
X-WR-TIMEZONE:Europe/Athens
BEGIN:VEVENT
UID:https://mail.kinimatorama.net/event/17068
DTSTAMP:20120207T090000Z
DESCRIPTION:περισσότερες πληροφορίες: https://mail.kinimatorama.net/event/1
 7068 
DTSTART:20120207T090000Z
DTEND:20120207T100000Z
GEO:+37.975682;+23.734846
LOCATION:Αθήνα\, \nΠλατεία Συντάγματος (Σύνταγμα)
SUMMARY:Απεργιακή συγκέντρωση (Σύνταγμα)
URL:https://mail.kinimatorama.net/event/17068
END:VEVENT
END:VCALENDAR
