BEGIN:VCALENDAR
VERSION:2.0
PRODID:-//demosphere.net//NONSGML kigkonsult.se iCalcreator 2.22.1//
METHOD:REQUEST
X-WR-TIMEZONE:Europe/Athens
BEGIN:VEVENT
UID:https://mail.kinimatorama.net/event/172410
DTSTAMP:20241221T110000Z
DESCRIPTION:περισσότερες πληροφορίες: https://mail.kinimatorama.net/event/1
 72410 
DTSTART:20241221T110000Z
DTEND:20241221T120000Z
GEO:+37.975682;+23.734846
LOCATION:Αθήνα\, \nΠλατεία Συντάγματος (Σύνταγμα)
SUMMARY:Χριστουγεννιάτικη αντι-παρέμβαση ενάντια στις κρατικές δολοφονίες μ
 εταναστ(ρι)ών
URL:https://mail.kinimatorama.net/event/172410
END:VEVENT
END:VCALENDAR
