BEGIN:VCALENDAR
VERSION:2.0
PRODID:-//demosphere.net//NONSGML kigkonsult.se iCalcreator 2.22.1//
METHOD:REQUEST
X-WR-TIMEZONE:Europe/Athens
BEGIN:VEVENT
UID:https://mail.kinimatorama.net/event/172414
DTSTAMP:20241221T100000Z
DESCRIPTION:περισσότερες πληροφορίες: https://mail.kinimatorama.net/event/1
 72414 
DTSTART:20241221T100000Z
DTEND:20241221T110000Z
GEO:+37.975682;+23.734846
LOCATION:Αθήνα\, \nΠλατεία Συντάγματος (Σύνταγμα)
SUMMARY:Αντιιμπεριαλιστική - Διεθνιστική συγκέντρωση
URL:https://mail.kinimatorama.net/event/172414
END:VEVENT
END:VCALENDAR
