BEGIN:VCALENDAR
VERSION:2.0
PRODID:-//demosphere.net//NONSGML kigkonsult.se iCalcreator 2.22.1//
METHOD:REQUEST
X-WR-TIMEZONE:Europe/Athens
BEGIN:VEVENT
UID:https://mail.kinimatorama.net/event/172436
DTSTAMP:20241224T160000Z
DESCRIPTION:περισσότερες πληροφορίες: https://mail.kinimatorama.net/event/1
 72436 
DTSTART:20241224T160000Z
DTEND:20241224T170000Z
GEO:+37.975682;+23.734846
LOCATION:Αθήνα\, \nΠλατεία Συντάγματος (Σύνταγμα)
SUMMARY:Συγκέντρωση - Μικροφωνική Ενάντια Στις Επιθέσεις Της Τουρκίας & Των
  Μισθοφόρων Της
URL:https://mail.kinimatorama.net/event/172436
END:VEVENT
END:VCALENDAR
