BEGIN:VCALENDAR
VERSION:2.0
PRODID:-//demosphere.net//NONSGML kigkonsult.se iCalcreator 2.22.1//
METHOD:REQUEST
X-WR-TIMEZONE:Europe/Athens
BEGIN:VEVENT
UID:https://mail.kinimatorama.net/event/173228
DTSTAMP:20250206T163000Z
DESCRIPTION:περισσότερες πληροφορίες: https://mail.kinimatorama.net/event/1
 73228 
DTSTART:20250206T163000Z
DTEND:20250206T173000Z
GEO:+37.975682;+23.734846
LOCATION:Αθήνα\, \nΠλατεία Συντάγματος (Σύνταγμα)
SUMMARY:Πορεία μνήμης και αγώνα για τα θύματα των κρατικών δολοφονιών στα σ
 ύνορα
URL:https://mail.kinimatorama.net/event/173228
END:VEVENT
END:VCALENDAR
