BEGIN:VCALENDAR
VERSION:2.0
PRODID:-//demosphere.net//NONSGML kigkonsult.se iCalcreator 2.22.1//
METHOD:REQUEST
X-WR-TIMEZONE:Europe/Athens
BEGIN:VEVENT
UID:https://mail.kinimatorama.net/event/173690
DTSTAMP:20250215T163000Z
DESCRIPTION:περισσότερες πληροφορίες: https://mail.kinimatorama.net/event/1
 73690 
DTSTART:20250215T163000Z
DTEND:20250215T173000Z
GEO:+39.620611;+19.91523
LOCATION:Κέρκυρα\, \nκατάληψη Αντινομία \nπαλιό ψυχιατρείο
SUMMARY:Εκδήλωση-Συζήτηση για την υπόθεση του συντρόφου Αντρέα Φ.
URL:https://mail.kinimatorama.net/event/173690
END:VEVENT
END:VCALENDAR
