BEGIN:VCALENDAR
VERSION:2.0
PRODID:-//demosphere.net//NONSGML kigkonsult.se iCalcreator 2.22.1//
METHOD:REQUEST
X-WR-TIMEZONE:Europe/Athens
BEGIN:VEVENT
UID:https://mail.kinimatorama.net/event/174856
DTSTAMP:20250314T190000Z
DESCRIPTION:περισσότερες πληροφορίες: https://mail.kinimatorama.net/event/1
 74856 
DTSTART:20250314T190000Z
DTEND:20250314T200000Z
GEO:+40.653653;+22.939807
LOCATION:Θεσσαλονίκη\, \nΣτέκι ΑΠΑΝ - Λαϊκής Βιβλιοθήκης \nΜουδανιών 18 \nΝ
 εάπολη
SUMMARY:Bar οικονομικής ενίσχυσης των διωκόμενων απο την εκκένωση της Mundo
  Nuevo
URL:https://mail.kinimatorama.net/event/174856
END:VEVENT
END:VCALENDAR
