BEGIN:VCALENDAR
VERSION:2.0
PRODID:-//demosphere.net//NONSGML kigkonsult.se iCalcreator 2.22.1//
METHOD:REQUEST
X-WR-TIMEZONE:Europe/Athens
BEGIN:VEVENT
UID:https://mail.kinimatorama.net/event/175721
DTSTAMP:20250404T170000Z
DESCRIPTION:περισσότερες πληροφορίες: https://mail.kinimatorama.net/event/1
 75721 
DTSTART:20250404T170000Z
DTEND:20250404T180000Z
GEO:+40.653653;+22.939807
LOCATION:Θεσσαλονίκη\, \nΣτέκι ΑΠΑΝ - Λαϊκής Βιβλιοθήκης \nΜουδανιών 18 \nΝ
 εάπολη
SUMMARY:Παρουσίαση του 2ου τεύχους της περιοδικής έκδοσης «Ελεύθερες γυναίκ
 ες»
URL:https://mail.kinimatorama.net/event/175721
END:VEVENT
END:VCALENDAR
