BEGIN:VCALENDAR
VERSION:2.0
PRODID:-//demosphere.net//NONSGML kigkonsult.se iCalcreator 2.22.1//
METHOD:REQUEST
X-WR-TIMEZONE:Europe/Athens
BEGIN:VEVENT
UID:https://mail.kinimatorama.net/event/176255
DTSTAMP:20250427T150000Z
DESCRIPTION:περισσότερες πληροφορίες: https://mail.kinimatorama.net/event/1
 76255 
DTSTART:20250427T150000Z
DTEND:20250427T160000Z
GEO:+40.653653;+22.939807
LOCATION:Θεσσαλονίκη\, \nΣτέκι ΑΠΑΝ - Λαϊκής Βιβλιοθήκης \nΜουδανιών 18 \nΝ
 εάπολη
SUMMARY:Ομάδα λογοτεχνικής ανάγνωσης ΑΠΑΝ - Λβ: Ο δρόμος με τις φάμπρικες
URL:https://mail.kinimatorama.net/event/176255
END:VEVENT
END:VCALENDAR
