BEGIN:VCALENDAR
VERSION:2.0
PRODID:-//demosphere.net//NONSGML kigkonsult.se iCalcreator 2.22.1//
METHOD:REQUEST
X-WR-TIMEZONE:Europe/Athens
BEGIN:VEVENT
UID:https://mail.kinimatorama.net/event/176553
DTSTAMP:20250430T173000Z
DESCRIPTION:περισσότερες πληροφορίες: https://mail.kinimatorama.net/event/1
 76553 
DTSTART:20250430T173000Z
DTEND:20250430T183000Z
GEO:+40.653653;+22.939807
LOCATION:Θεσσαλονίκη\, \nΣτέκι ΑΠΑΝ - Λαϊκής Βιβλιοθήκης \nΜουδανιών 18 \nΝ
 εάπολη
SUMMARY:Προβολή ταινίας: Η μοναξιά του δρομέα μεγάλων αποστάσεων
URL:https://mail.kinimatorama.net/event/176553
END:VEVENT
END:VCALENDAR
