BEGIN:VCALENDAR
VERSION:2.0
PRODID:-//demosphere.net//NONSGML kigkonsult.se iCalcreator 2.22.1//
METHOD:REQUEST
X-WR-TIMEZONE:Europe/Athens
BEGIN:VEVENT
UID:https://mail.kinimatorama.net/event/177958
DTSTAMP:20250527T163000Z
DESCRIPTION:περισσότερες πληροφορίες: https://mail.kinimatorama.net/event/1
 77958 
DTSTART:20250527T163000Z
DTEND:20250527T173000Z
GEO:+39.620611;+19.91523
LOCATION:Κέρκυρα\, \nκατάληψη Αντινομία \nπαλιό ψυχιατρείο
SUMMARY:Προβολή ντοκυμαντέρ για το Χρ. Τσουτσουβή & τηλεφωνική επικοινωνία 
 με το δημιουργό
URL:https://mail.kinimatorama.net/event/177958
END:VEVENT
END:VCALENDAR
