BEGIN:VCALENDAR
VERSION:2.0
PRODID:-//demosphere.net//NONSGML kigkonsult.se iCalcreator 2.22.1//
METHOD:REQUEST
X-WR-TIMEZONE:Europe/Athens
BEGIN:VEVENT
UID:https://mail.kinimatorama.net/event/178386
DTSTAMP:20250614T133000Z
DESCRIPTION:περισσότερες πληροφορίες: https://mail.kinimatorama.net/event/1
 78386 
DTSTART:20250614T133000Z
DTEND:20250614T143000Z
GEO:+37.975682;+23.734846
LOCATION:Αθήνα\, \nΠλατεία Συντάγματος (Σύνταγμα)
SUMMARY:Pride 2025
URL:https://mail.kinimatorama.net/event/178386
END:VEVENT
END:VCALENDAR
