BEGIN:VCALENDAR
VERSION:2.0
PRODID:-//demosphere.net//NONSGML kigkonsult.se iCalcreator 2.22.1//
METHOD:REQUEST
X-WR-TIMEZONE:Europe/Athens
BEGIN:VEVENT
UID:https://mail.kinimatorama.net/event/178810
DTSTAMP:20250615T130000Z
DESCRIPTION:περισσότερες πληροφορίες: https://mail.kinimatorama.net/event/1
 78810 
DTSTART:20250615T130000Z
DTEND:20250615T140000Z
GEO:+39.620611;+19.91523
LOCATION:Κέρκυρα\, \nκατάληψη Αντινομία \nπαλιό ψυχιατρείο
SUMMARY:3ήμερο Αυτοοργανωμένης Μαθητικής Ομάδας Κέρκυρας
URL:https://mail.kinimatorama.net/event/178810
END:VEVENT
END:VCALENDAR
