BEGIN:VCALENDAR
VERSION:2.0
PRODID:-//demosphere.net//NONSGML kigkonsult.se iCalcreator 2.22.1//
METHOD:REQUEST
X-WR-TIMEZONE:Europe/Athens
BEGIN:VEVENT
UID:https://mail.kinimatorama.net/event/180048
DTSTAMP:20250731T070000Z
DESCRIPTION:περισσότερες πληροφορίες: https://mail.kinimatorama.net/event/1
 80048 
DTSTART:20250731T070000Z
DTEND:20250731T080000Z
GEO:+37.975682;+23.734846
LOCATION:Αθήνα\, \nΠλατεία Συντάγματος (Σύνταγμα)
SUMMARY:Διαδήλωση ενάντια στο νέο νομοσχέδιο καταστολής και διαγραφών στα π
 ανεπιστήμια
URL:https://mail.kinimatorama.net/event/180048
END:VEVENT
END:VCALENDAR
