BEGIN:VCALENDAR
VERSION:2.0
PRODID:-//demosphere.net//NONSGML kigkonsult.se iCalcreator 2.22.1//
METHOD:REQUEST
X-WR-TIMEZONE:Europe/Athens
BEGIN:VEVENT
UID:https://mail.kinimatorama.net/event/180787
DTSTAMP:20251012T150000Z
DESCRIPTION:περισσότερες πληροφορίες: https://mail.kinimatorama.net/event/1
 80787 
DTSTART:20251012T150000Z
DTEND:20251012T160000Z
GEO:+40.653653;+22.939807
LOCATION:Θεσσαλονίκη\, \nΣτέκι ΑΠΑΝ - Λαϊκής Βιβλιοθήκης \nΜουδανιών 18 \nΝ
 εάπολη
SUMMARY:Ομάδα λογοτεχνικής ανάγνωσης ΑΠΑΝ - Λαϊκή Βιβλιοθήκη: ΝΑΔΑ
URL:https://mail.kinimatorama.net/event/180787
END:VEVENT
END:VCALENDAR
