BEGIN:VCALENDAR
VERSION:2.0
PRODID:-//demosphere.net//NONSGML kigkonsult.se iCalcreator 2.22.1//
METHOD:REQUEST
X-WR-TIMEZONE:Europe/Athens
BEGIN:VEVENT
UID:https://mail.kinimatorama.net/event/181741
DTSTAMP:20251008T173000Z
DESCRIPTION:περισσότερες πληροφορίες: https://mail.kinimatorama.net/event/1
 81741 
DTSTART:20251008T173000Z
DTEND:20251008T183000Z
GEO:+40.653653;+22.939807
LOCATION:Θεσσαλονίκη\, \nΣτέκι ΑΠΑΝ - Λαϊκής Βιβλιοθήκης \nΜουδανιών 18 \nΝ
 εάπολη
SUMMARY:Cin - ΑΠΑΝΤΗΜΑΤΑ - Προβολή ταινίας: Snowpiercer
URL:https://mail.kinimatorama.net/event/181741
END:VEVENT
END:VCALENDAR
