BEGIN:VCALENDAR
VERSION:2.0
PRODID:-//demosphere.net//NONSGML kigkonsult.se iCalcreator 2.22.1//
METHOD:REQUEST
X-WR-TIMEZONE:Europe/Athens
BEGIN:VEVENT
UID:https://mail.kinimatorama.net/event/181758
DTSTAMP:20251004T153000Z
DESCRIPTION:περισσότερες πληροφορίες: https://mail.kinimatorama.net/event/1
 81758 
DTSTART:20251004T153000Z
DTEND:20251004T163000Z
GEO:+37.975682;+23.734846
LOCATION:Αθήνα\, \nΠλατεία Συντάγματος (Σύνταγμα)
SUMMARY:Συγκέντρωση Αλληλεγγύης στον Παλαιστινιακό Λαό
URL:https://mail.kinimatorama.net/event/181758
END:VEVENT
END:VCALENDAR
