BEGIN:VCALENDAR
VERSION:2.0
PRODID:-//demosphere.net//NONSGML kigkonsult.se iCalcreator 2.22.1//
METHOD:REQUEST
X-WR-TIMEZONE:Europe/Athens
BEGIN:VEVENT
UID:https://mail.kinimatorama.net/event/181899
DTSTAMP:20251011T150000Z
DESCRIPTION:περισσότερες πληροφορίες: https://mail.kinimatorama.net/event/1
 81899 
DTSTART:20251011T150000Z
DTEND:20251011T160000Z
GEO:+40.653653;+22.939807
LOCATION:Θεσσαλονίκη\, \nΣτέκι ΑΠΑΝ - Λαϊκής Βιβλιοθήκης \nΜουδανιών 18 \nΝ
 εάπολη
SUMMARY:Oι εκδόσεις των ξένων παρουσιάζουν το 8ο τεύχος των «Σημειώσεων της
  Στέπας»
URL:https://mail.kinimatorama.net/event/181899
END:VEVENT
END:VCALENDAR
