BEGIN:VCALENDAR
VERSION:2.0
PRODID:-//demosphere.net//NONSGML kigkonsult.se iCalcreator 2.22.1//
METHOD:REQUEST
X-WR-TIMEZONE:Europe/Athens
BEGIN:VEVENT
UID:https://mail.kinimatorama.net/event/18196
DTSTAMP:20120328T080000Z
DESCRIPTION:περισσότερες πληροφορίες: https://mail.kinimatorama.net/event/1
 8196 
DTSTART:20120328T080000Z
DTEND:20120328T090000Z
GEO:+37.975682;+23.734846
LOCATION:Αθήνα\, \nΠλατεία Συντάγματος (Σύνταγμα)
SUMMARY:Προσυγκέντρωση ενάντια στη 2η Διεθνή Έκθεση γούνας
URL:https://mail.kinimatorama.net/event/18196
END:VEVENT
END:VCALENDAR
