BEGIN:VCALENDAR
VERSION:2.0
PRODID:-//demosphere.net//NONSGML kigkonsult.se iCalcreator 2.22.1//
METHOD:REQUEST
X-WR-TIMEZONE:Europe/Athens
BEGIN:VEVENT
UID:https://mail.kinimatorama.net/event/182073
DTSTAMP:20251011T143000Z
DESCRIPTION:περισσότερες πληροφορίες: https://mail.kinimatorama.net/event/1
 82073 
DTSTART:20251011T143000Z
DTEND:20251011T153000Z
GEO:+37.975682;+23.734846
LOCATION:Αθήνα\, \nΠλατεία Συντάγματος (Σύνταγμα)
SUMMARY:Συγκέντρωση Αλληλεγγύης στον Παλαιστινιακό Λαό
URL:https://mail.kinimatorama.net/event/182073
END:VEVENT
END:VCALENDAR
