BEGIN:VCALENDAR
VERSION:2.0
PRODID:-//demosphere.net//NONSGML kigkonsult.se iCalcreator 2.22.1//
METHOD:REQUEST
X-WR-TIMEZONE:Europe/Athens
BEGIN:VEVENT
UID:https://mail.kinimatorama.net/event/182362
DTSTAMP:20251024T150000Z
DESCRIPTION:περισσότερες πληροφορίες: https://mail.kinimatorama.net/event/1
 82362 
DTSTART:20251024T150000Z
DTEND:20251024T160000Z
GEO:+37.975682;+23.734846
LOCATION:Αθήνα\, \nΠλατεία Συντάγματος (Σύνταγμα)
SUMMARY:Μικροφωνική ενάντια στις κρατικές δολοφονίες στο Αιγαίο & τη συγκάλ
 υψη της Πύλου
URL:https://mail.kinimatorama.net/event/182362
END:VEVENT
END:VCALENDAR
