BEGIN:VCALENDAR
VERSION:2.0
PRODID:-//demosphere.net//NONSGML kigkonsult.se iCalcreator 2.22.1//
METHOD:REQUEST
X-WR-TIMEZONE:Europe/Athens
BEGIN:VEVENT
UID:https://mail.kinimatorama.net/event/182926
DTSTAMP:20251109T160000Z
DESCRIPTION:περισσότερες πληροφορίες: https://mail.kinimatorama.net/event/1
 82926 
DTSTART:20251109T160000Z
DTEND:20251109T170000Z
GEO:+40.653653;+22.939807
LOCATION:Θεσσαλονίκη\, \nΣτέκι ΑΠΑΝ - Λαϊκής Βιβλιοθήκης \nΜουδανιών 18 \nΝ
 εάπολη
SUMMARY:Εκδηλωση για τις φασιστικες επιθεσεις σε μεταναστακια στο Ωραιοκαστ
 ρο
URL:https://mail.kinimatorama.net/event/182926
END:VEVENT
END:VCALENDAR
