BEGIN:VCALENDAR
VERSION:2.0
PRODID:-//demosphere.net//NONSGML kigkonsult.se iCalcreator 2.22.1//
METHOD:REQUEST
X-WR-TIMEZONE:Europe/Athens
BEGIN:VEVENT
UID:https://mail.kinimatorama.net/event/183631
DTSTAMP:20251121T173000Z
DESCRIPTION:περισσότερες πληροφορίες: https://mail.kinimatorama.net/event/1
 83631 
DTSTART:20251121T173000Z
DTEND:20251121T183000Z
GEO:+40.653653;+22.939807
LOCATION:Θεσσαλονίκη\, \nΣτέκι ΑΠΑΝ - Λαϊκής Βιβλιοθήκης \nΜουδανιών 18 \nΝ
 εάπολη
SUMMARY:Προβολή ντοκιμαντέρ: Αναζητώντας το χρυσάφι του χρόνου\, του Τάσου 
 Κατσαρού
URL:https://mail.kinimatorama.net/event/183631
END:VEVENT
END:VCALENDAR
