BEGIN:VCALENDAR
VERSION:2.0
PRODID:-//demosphere.net//NONSGML kigkonsult.se iCalcreator 2.22.1//
METHOD:REQUEST
X-WR-TIMEZONE:Europe/Athens
BEGIN:VEVENT
UID:https://mail.kinimatorama.net/event/184160
DTSTAMP:20260111T160000Z
DESCRIPTION:περισσότερες πληροφορίες: https://mail.kinimatorama.net/event/1
 84160 
DTSTART:20260111T160000Z
DTEND:20260111T170000Z
GEO:+40.653653;+22.939807
LOCATION:Θεσσαλονίκη\, \nΣτέκι ΑΠΑΝ - Λαϊκής Βιβλιοθήκης \nΜουδανιών 18 \nΝ
 εάπολη
SUMMARY:Ομάδα ανάγνωσης ΑΠΑΝ - Λαϊκής Βιβλιοθήκης: Ο αναρχικός των δύο κόσμ
 ων
URL:https://mail.kinimatorama.net/event/184160
END:VEVENT
END:VCALENDAR
